BEGIN:VCALENDAR
VERSION:2.0
PRODID:-//M&amp;M Conseil - ECPv5.16.4.1//NONSGML v1.0//EN
CALSCALE:GREGORIAN
METHOD:PUBLISH
X-WR-CALNAME:M&amp;M Conseil
X-ORIGINAL-URL:https://www.mmconseil.com
X-WR-CALDESC:évènements pour M&amp;M Conseil
BEGIN:VTIMEZONE
TZID:Europe/Helsinki
BEGIN:DAYLIGHT
TZOFFSETFROM:+0200
TZOFFSETTO:+0300
TZNAME:EEST
DTSTART:20260329T010000
END:DAYLIGHT
BEGIN:STANDARD
TZOFFSETFROM:+0300
TZOFFSETTO:+0200
TZNAME:EET
DTSTART:20261025T010000
END:STANDARD
END:VTIMEZONE
BEGIN:VEVENT
DTSTART;TZID=Europe/Helsinki:20260602T080000
DTEND;TZID=Europe/Helsinki:20260602T170000
DTSTAMP:20260424T171834
CREATED:20260423T125335Z
LAST-MODIFIED:20260423T125413Z
UID:70883-1780387200-1780419600@www.mmconseil.com
SUMMARY:6es Rencontres pour la Prévention
DESCRIPTION:
URL:https://www.mmconseil.com/evenement/6es-rencontres-pour-la-prevention/
LOCATION:Maison de la Chimie\, 28 rue Saint-Dominique\, Paris VIIe\, 75007\, France
CATEGORIES:Santé
END:VEVENT
END:VCALENDAR