BEGIN:VCALENDAR
VERSION:2.0
PRODID:-//M&amp;M Conseil - ECPv5.16.4.1//NONSGML v1.0//EN
CALSCALE:GREGORIAN
METHOD:PUBLISH
X-WR-CALNAME:M&amp;M Conseil
X-ORIGINAL-URL:https://www.mmconseil.com
X-WR-CALDESC:évènements pour M&amp;M Conseil
BEGIN:VTIMEZONE
TZID:Europe/Paris
BEGIN:DAYLIGHT
TZOFFSETFROM:+0100
TZOFFSETTO:+0200
TZNAME:CEST
DTSTART:20250330T010000
END:DAYLIGHT
BEGIN:STANDARD
TZOFFSETFROM:+0200
TZOFFSETTO:+0100
TZNAME:CET
DTSTART:20251026T010000
END:STANDARD
END:VTIMEZONE
BEGIN:VEVENT
DTSTART;TZID=Europe/Paris:20250326T083000
DTEND;TZID=Europe/Paris:20250326T123000
DTSTAMP:20260419T154858
CREATED:20250210T120623Z
LAST-MODIFIED:20250320T141734Z
UID:57385-1742977800-1742992200@www.mmconseil.com
SUMMARY:5es Rencontres de la Consommation responsable
DESCRIPTION:
URL:https://www.mmconseil.com/evenement/5es-rencontres-de-la-consommation-responsable/
LOCATION:Maison de la Chimie\, 28 rue Saint-Dominique\, Paris VIIe\, 75007\, France
CATEGORIES:Consommation,Économie, consommation, entreprise, emploi, épargne
END:VEVENT
END:VCALENDAR