BEGIN:VCALENDAR
VERSION:2.0
PRODID:-//M&amp;M Conseil - ECPv5.16.4.1//NONSGML v1.0//EN
CALSCALE:GREGORIAN
METHOD:PUBLISH
X-WR-CALNAME:M&amp;M Conseil
X-ORIGINAL-URL:https://www.mmconseil.com
X-WR-CALDESC:évènements pour M&amp;M Conseil
BEGIN:VTIMEZONE
TZID:Europe/Paris
BEGIN:DAYLIGHT
TZOFFSETFROM:+0100
TZOFFSETTO:+0200
TZNAME:CEST
DTSTART:20200329T010000
END:DAYLIGHT
BEGIN:STANDARD
TZOFFSETFROM:+0200
TZOFFSETTO:+0100
TZNAME:CET
DTSTART:20201025T010000
END:STANDARD
END:VTIMEZONE
BEGIN:VEVENT
DTSTART;TZID=Europe/Paris:20201209T090000
DTEND;TZID=Europe/Paris:20201209T123000
DTSTAMP:20260423T224704
CREATED:20201124T094829Z
LAST-MODIFIED:20230123T091104Z
UID:25773-1607504400-1607517000@www.mmconseil.com
SUMMARY:4es Rencontres sur les Maladies rares
DESCRIPTION:
URL:https://www.mmconseil.com/evenement/4es-rencontres-sur-les-maladies-rares/
CATEGORIES:Santé, longévité, protection sociale, retraite
END:VEVENT
END:VCALENDAR