BEGIN:VCALENDAR
VERSION:2.0
PRODID:-//M&amp;M Conseil - ECPv5.16.4.1//NONSGML v1.0//EN
CALSCALE:GREGORIAN
METHOD:PUBLISH
X-WR-CALNAME:M&amp;M Conseil
X-ORIGINAL-URL:https://www.mmconseil.com
X-WR-CALDESC:évènements pour M&amp;M Conseil
BEGIN:VTIMEZONE
TZID:Europe/Helsinki
BEGIN:DAYLIGHT
TZOFFSETFROM:+0200
TZOFFSETTO:+0300
TZNAME:EEST
DTSTART:20250330T010000
END:DAYLIGHT
BEGIN:STANDARD
TZOFFSETFROM:+0300
TZOFFSETTO:+0200
TZNAME:EET
DTSTART:20251026T010000
END:STANDARD
END:VTIMEZONE
BEGIN:VEVENT
DTSTART;TZID=Europe/Helsinki:20250701T080000
DTEND;TZID=Europe/Helsinki:20250701T123000
DTSTAMP:20260422T185846
CREATED:20250603T145928Z
LAST-MODIFIED:20250620T084637Z
UID:61394-1751356800-1751373000@www.mmconseil.com
SUMMARY:3es Rencontres sur les Maladies Chroniques
DESCRIPTION:
URL:https://www.mmconseil.com/evenement/3es-rencontres-sur-les-maladies-chroniques/
LOCATION:Maison de la Chimie\, 28 rue Saint-Dominique\, Paris VIIe\, 75007\, France
CATEGORIES:Santé
END:VEVENT
END:VCALENDAR