BEGIN:VCALENDAR
VERSION:2.0
PRODID:-//M&amp;M Conseil - ECPv5.16.4.1//NONSGML v1.0//EN
CALSCALE:GREGORIAN
METHOD:PUBLISH
X-WR-CALNAME:M&amp;M Conseil
X-ORIGINAL-URL:https://www.mmconseil.com
X-WR-CALDESC:évènements pour M&amp;M Conseil
BEGIN:VTIMEZONE
TZID:Europe/Paris
BEGIN:DAYLIGHT
TZOFFSETFROM:+0100
TZOFFSETTO:+0200
TZNAME:CEST
DTSTART:20250330T010000
END:DAYLIGHT
BEGIN:STANDARD
TZOFFSETFROM:+0200
TZOFFSETTO:+0100
TZNAME:CET
DTSTART:20251026T010000
END:STANDARD
END:VTIMEZONE
BEGIN:VEVENT
DTSTART;TZID=Europe/Paris:20250128T080000
DTEND;TZID=Europe/Paris:20250128T140000
DTSTAMP:20260421T153648
CREATED:20241205T092342Z
LAST-MODIFIED:20250127T100808Z
UID:55036-1738051200-1738072800@www.mmconseil.com
SUMMARY:34es Rencontres de l’Épargne
DESCRIPTION:
URL:https://www.mmconseil.com/evenement/34es-rencontres-de-lepargne/
LOCATION:Maison de la Chimie\, 28 rue Saint-Dominique\, Paris VIIe\, 75007\, France
CATEGORIES:Épargne
END:VEVENT
END:VCALENDAR