BEGIN:VCALENDAR
VERSION:2.0
PRODID:-//M&amp;M Conseil - ECPv5.16.4.1//NONSGML v1.0//EN
CALSCALE:GREGORIAN
METHOD:PUBLISH
X-WR-CALNAME:M&amp;M Conseil
X-ORIGINAL-URL:https://www.mmconseil.com
X-WR-CALDESC:évènements pour M&amp;M Conseil
BEGIN:VTIMEZONE
TZID:Europe/Paris
BEGIN:DAYLIGHT
TZOFFSETFROM:+0100
TZOFFSETTO:+0200
TZNAME:CEST
DTSTART:20190331T010000
END:DAYLIGHT
BEGIN:STANDARD
TZOFFSETFROM:+0200
TZOFFSETTO:+0100
TZNAME:CET
DTSTART:20191027T010000
END:STANDARD
END:VTIMEZONE
BEGIN:VEVENT
DTSTART;TZID=Europe/Paris:20191022T080000
DTEND;TZID=Europe/Paris:20191022T140000
DTSTAMP:20260423T122628
CREATED:20190711T092818Z
LAST-MODIFIED:20230120T155643Z
UID:18619-1571731200-1571752800@www.mmconseil.com
SUMMARY:13es Rencontres sur le Cancer
DESCRIPTION:N
URL:https://www.mmconseil.com/evenement/13es-rencontres-sur-le-cancer/
LOCATION:Maison de la Chimie\, 28 rue Saint-Dominique\, Paris VIIe\, 75007\, France
CATEGORIES:Santé, longévité, protection sociale, retraite
END:VEVENT
END:VCALENDAR