BEGIN:VCALENDAR
VERSION:2.0
PRODID:-//M&amp;M Conseil - ECPv5.16.4.1//NONSGML v1.0//EN
CALSCALE:GREGORIAN
METHOD:PUBLISH
X-WR-CALNAME:M&amp;M Conseil
X-ORIGINAL-URL:https://www.mmconseil.com
X-WR-CALDESC:évènements pour M&amp;M Conseil
BEGIN:VTIMEZONE
TZID:Europe/Paris
BEGIN:DAYLIGHT
TZOFFSETFROM:+0100
TZOFFSETTO:+0200
TZNAME:CEST
DTSTART:20210328T010000
END:DAYLIGHT
BEGIN:STANDARD
TZOFFSETFROM:+0200
TZOFFSETTO:+0100
TZNAME:CET
DTSTART:20211031T010000
END:STANDARD
END:VTIMEZONE
BEGIN:VEVENT
DTSTART;TZID=Europe/Paris:20211130T080000
DTEND;TZID=Europe/Paris:20211130T123000
DTSTAMP:20260422T162642
CREATED:20211021T143133Z
LAST-MODIFIED:20230123T091626Z
UID:32261-1638259200-1638275400@www.mmconseil.com
SUMMARY:12es Rencontres pour les Énergies renouvelables
DESCRIPTION:Rencontrez des experts des énergies renouvelables autour de tables-rondes.\nVenez débattre sur : Quelles réponses à l’envolée des prix de l’énergie ? Comment faire face au défi de l’acceptabilité ? Quels chantiers prioritaires pour le prochain quinquennat ? Sans oublier des débats sur les innovations pour accélérer le développement des énergies renouvelables. \n  \nUn événement animé par David Ascher\, Directeur des publications d’Actu-environnement \n  \n  \nAu programme de cette rencontre sur les énergies :\n\n9:00 – Les Français et les énergies renouvelables : le grand amour ?\nBruno Jeanbart\, vice-président d’OpinionWay \n9:10 – Table-ronde : Quelles réponses à l’envolée des prix de l’énergie ?\nJean-François Carenco\, président de la Commission de régulation de l’énergie (CRE)\nAnthony Cellier\, député du Gard\, président du Conseil supérieur de l’énergie\nCélia de Lavergne\, députée de la Drôme\, vice-présidente du groupe d’études “Enjeux économiques de la filière industrielle énergétique”\nThomas-Olivier Léautier\, chef économiste d’EDF et directeur de l’Université Groupe EDF du Management\nLaurent Michel\, directeur général de l’énergie et du climat (DGEC) \nÉchanges avec la salle \n10:00 – Table-ronde : Comment faire face au défi de l’acceptabilité ?\nVincent Balès\, directeur général de wpd offshore France\nSoizic Hemion\, directrice de la Stratégie et des Relations extérieures de la business unit ENR France d’ENGIE\nChantal Jouanno\, présidente de la Commission nationale du débat public (CNDP)\nRégis Maséra\, directeur de l’Arval Mobility Observatory et du Consulting d’Arval France\nJimmy Pahun\, député du Morbihan\, vice-président du groupe d’études “Économie maritime” \nÉchanges avec la salle \n  \n11:00 – Session Prospective : Vers un gaz 100% renouvelable en 2050 ?\nMarie-Clair Aoun\, responsable du pôle des Relations institutionnelles de Teréga\nBernard Aulagne\, président de Coénove\nVincent Thiébaut\, député du Bas-Rhin \n\n11:30 – Boîte à idées : Quels chantiers prioritaires pour le prochain quinquennat ?\nAvec la participation de : \nMarie-Noëlle Battistel\, députée de l’Isère\, vice-présidente de la commission des Affaires économiques\nJean-Charles Colas-Roy\, député de l’Isère\, co-président du groupe d’études “Energies vertes”\nPierre Duvieusart\, directeur général adjoint de GRTgaz\nJoseph Fonio\, président de RWE Renouvelables France\nPierre Guelman\, directeur des affaires publiques d’Enedis\nChristophe Leininger\, délégué général de l’Union Française de l’Electricité (UFE) \nÉchanges avec la salle \n\n\n  \nInformations pratiques :\nCes Rencontres auront lieu le : MARDI 30 NOVEMBRE 2021\nMaison de la Chimie 28\, rue Saint-Dominique 75 007 Paris\nRER C : Invalides\nMétro : Invalides – Assemblée nationale\nBus : 63 • 69 • 83 • 93 • 94\nParking : Invalides \nInscriptions et renseignements :\nTél : 01 44 18 64 60 / Mail : secretariat@mmconseil.com / www.mmconseil.com
URL:https://www.mmconseil.com/evenement/12es-rencontres-pour-les-energies-renouvelables/
LOCATION:Maison de la Chimie\, 28 rue Saint-Dominique\, Paris VIIe\, 75007\, France
CATEGORIES:Climat, énergie, environnement, RSE
END:VEVENT
END:VCALENDAR